BEGIN:VCALENDAR
VERSION:2.0
PRODID:-//wp-events-plugin.com//7.2.3.1//EN
TZID:Europe/Berlin
X-WR-TIMEZONE:Europe/Berlin
BEGIN:VEVENT
UID:770@agbw.org
DTSTART;TZID=Europe/Berlin:20251018T110000
DTEND;TZID=Europe/Berlin:20251018T150000
DTSTAMP:20250930T050947Z
URL:https://agbw.org/am/events/agbw-fuer-kinder/
SUMMARY:AGBW für Kinder
DESCRIPTION:[fusion_builder_container type="flex" hundred_percent="no" equa
 l_height_columns="no" menu_anchor="" hide_on_mobile="small-visibility\,med
 ium-visibility\,large-visibility" class="" id="" background_color="" backg
 round_image="" background_position="center center" background_repeat="no-r
 epeat" fade="no" background_parallax="none" parallax_speed="0.3" video_mp4
 ="" video_webm="" video_ogv="" video_url="" video_aspect_ratio="16:9" vide
 o_loop="yes" video_mute="yes" overlay_color="" video_preview_image="" bord
 er_color="" border_style="solid" padding_top="" padding_bottom="" padding_
 left="" padding_right=""][fusion_builder_row][fusion_builder_column type="
 1_1" layout="1_1" background_position="left top" background_color="" borde
 r_color="" border_style="solid" border_position="all" spacing="yes" backgr
 ound_image="" background_repeat="no-repeat" padding_top="" padding_right="
 " padding_bottom="" padding_left="" margin_top="0px" margin_bottom="0px" c
 lass="" id="" animation_type="" animation_speed="0.3" animation_direction=
 "left" hide_on_mobile="small-visibility\,medium-visibility\,large-visibili
 ty" center_content="no" last="true" min_height="" hover_type="none" link="
 " border_sizes_top="" border_sizes_bottom="" border_sizes_left="" border_s
 izes_right="" first="true"][fusion_text]\n\n\nAGBW für Kinder\nSprach- un
 d Tanzworkshop\, Bastel- und Spielstunde\, armenische Märchen.\nMit Lesun
 g und Puppenfilm von Rusanna Danielian.\nUnter dem Motto „Spielen\, Lern
 en\, Erleben“ öffnet die AGBW-Samstagsschule ihre Türen und lädt Kind
 er zwischen 6 und 14 Jahren zu einem abwechslungsreichen Programm ein. Im 
 Mittelpunkt stehen die armenische Sprache und Kultur\, die auf spielerisch
 e und kreative Weise lebendig werden.\nDie bekannte Autorin Ruzanna Daniel
 ian liest aus ihren Büchern – für die Jüngeren mit Bildern und Projek
 tionen\, für die Älteren mit Geschichten voller Fantasie und Tiefgang.\n
 Neben Literatur und Film erwartet die Kinder ein buntes Mitmachprogramm: B
 astel- und Tanzstunden\, gemeinsames Spielen und die Möglichkeit\, eigene
  Geschichten zu erfinden. So werden Sprache\, Kreativität und Traditionen
  auf besondere Weise miteinander verbunden.\nHinweis: Eintritt frei | Anme
 ldungen erbeten bei: mashtoz@agbw.org\n\n\n\n\n\n[/fusion_text][/fusion_bu
 ilder_column][/fusion_builder_row][/fusion_builder_container]
ATTACH;FMTTYPE=image/jpeg:https://agbw.org/wp-content/uploads/2025/09/AKTS
 -Eroeffnungskonzert-900-x-600.png
CATEGORIES:Kinder und Jugend,Kulturtage
LOCATION:Rozenbergzentrum\, Rosenbergstr. 92\, Stuttgart\, 70176\, Germany
X-APPLE-STRUCTURED-LOCATION;VALUE=URI;X-ADDRESS=Rosenbergstr. 92\, Stuttgar
 t\, 70176\, Germany;X-APPLE-RADIUS=100;X-TITLE=Rozenbergzentrum:geo:0,0
END:VEVENT
BEGIN:VTIMEZONE
TZID:Europe/Berlin
X-LIC-LOCATION:Europe/Berlin
BEGIN:DAYLIGHT
DTSTART:20250330T030000
TZOFFSETFROM:+0100
TZOFFSETTO:+0200
TZNAME:CEST
END:DAYLIGHT
END:VTIMEZONE
END:VCALENDAR