BEGIN:VCALENDAR
VERSION:2.0
PRODID:-//wp-events-plugin.com//7.2.3.1//EN
TZID:Europe/Berlin
X-WR-TIMEZONE:Europe/Berlin
BEGIN:VEVENT
UID:768@agbw.org
DTSTART;TZID=Europe/Berlin:20251017T183000
DTEND;TZID=Europe/Berlin:20251017T193000
DTSTAMP:20250930T050315Z
URL:https://agbw.org/am/events/buchpraesentation-podiumsgespraech/
SUMMARY:Buchpräsentation & Podiumsgespräch
DESCRIPTION:[fusion_builder_container type="flex" hundred_percent="no" equa
 l_height_columns="no" menu_anchor="" hide_on_mobile="small-visibility\,med
 ium-visibility\,large-visibility" class="" id="" background_color="" backg
 round_image="" background_position="center center" background_repeat="no-r
 epeat" fade="no" background_parallax="none" parallax_speed="0.3" video_mp4
 ="" video_webm="" video_ogv="" video_url="" video_aspect_ratio="16:9" vide
 o_loop="yes" video_mute="yes" overlay_color="" video_preview_image="" bord
 er_color="" border_style="solid" padding_top="" padding_bottom="" padding_
 left="" padding_right=""][fusion_builder_row][fusion_builder_column type="
 1_1" layout="1_1" background_position="left top" background_color="" borde
 r_color="" border_style="solid" border_position="all" spacing="yes" backgr
 ound_image="" background_repeat="no-repeat" padding_top="" padding_right="
 " padding_bottom="" padding_left="" margin_top="0px" margin_bottom="0px" c
 lass="" id="" animation_type="" animation_speed="0.3" animation_direction=
 "left" hide_on_mobile="small-visibility\,medium-visibility\,large-visibili
 ty" center_content="no" last="true" min_height="" hover_type="none" link="
 " border_sizes_top="" border_sizes_bottom="" border_sizes_left="" border_s
 izes_right="" first="true"][fusion_text]\n\n\nBuchpräsentation und Podium
 sgespräch\nTessa Hofmann und Winfried K. Dallmann: Das geopolitische Schi
 cksal Armeniens – Vergangenheit und Gegenwart.\nArmenien – ein Land an
  der Schnittstelle zwischen Orient und Okzident\, zwischen Großmächten u
 nd Nachbarschaften\, zwischen Bedrohung und Hoffnung. Über seine wechselv
 olle Geschichte\, seine Kultur und seine fragile Gegenwart diskutieren die
  Armenien-Expertin Prof. h. c. Dr. phil. Tessa Hofmann und der Osteuropa-F
 orscher Winfried K. Dallmann.\nTessa Hofmann\, Philologin und Soziologin\,
  hat zahlreiche Bücher zur armenischen Geschichte\, Kultur und Gegenwart 
 veröffentlicht. Ihr Forschungsschwerpunkt liegt auf dem Völkermord an de
 n Armeniern und anderen Christen im Osmanischen Reich. Sie engagiert sich 
 seit Jahrzehnten als Menschenrechtlerin für bedrohte Minderheiten und wur
 de 2025 mit dem Bundesverdienstkreuz ausgezeichnet.\nGemeinsam mit Winfrie
 d K. Dallmann\, der sich als Kenner der politischen und historischen Entwi
 cklungen im Südkaukasus einen Namen gemacht hat\, zeichnet sie ein Bild d
 er geopolitischen Lage Armeniens: von der Vergangenheit des 20. Jahrhunder
 ts bis zu den aktuellen Konflikten um Berg-Karabach.\nPreis: 7\,00 € / 5
 \,00 €\n\n\n\n[/fusion_text][/fusion_builder_column][/fusion_builder_row
 ][/fusion_builder_container]
ATTACH;FMTTYPE=image/jpeg:https://agbw.org/wp-content/uploads/2025/09/Podi
 um-Hofmann-Dallmann.png
CATEGORIES:Buchpräsentation,Diskussion
LOCATION:Hospitalhof\, Büchsenstr. 33\, Stuttgart\, 70174 \, Germany
X-APPLE-STRUCTURED-LOCATION;VALUE=URI;X-ADDRESS=Büchsenstr. 33\, Stuttgart
 \, 70174 \, Germany;X-APPLE-RADIUS=100;X-TITLE=Hospitalhof:geo:0,0
END:VEVENT
BEGIN:VTIMEZONE
TZID:Europe/Berlin
X-LIC-LOCATION:Europe/Berlin
BEGIN:DAYLIGHT
DTSTART:20250330T030000
TZOFFSETFROM:+0100
TZOFFSETTO:+0200
TZNAME:CEST
END:DAYLIGHT
END:VTIMEZONE
END:VCALENDAR