BEGIN:VCALENDAR
VERSION:2.0
PRODID:-//wp-events-plugin.com//7.2.3.1//EN
TZID:Europe/Berlin
X-WR-TIMEZONE:Europe/Berlin
BEGIN:VEVENT
UID:221@agbw.org
DTSTART;TZID=Europe/Berlin:20230917T120000
DTEND;TZID=Europe/Berlin:20230917T133000
DTSTAMP:20230314T054300Z
URL:https://agbw.org/am/events/kreuzerhoehungsfest-2023/
SUMMARY:Խաչվերաց: Սուրբ Պատարագ / Kreuzerhöhungsfest. 
 Surb Patarag
DESCRIPTION:ԽԱՉՎԵՐԱՑ: Սիրով կը հրաւիրենք մեր հ
 աւատացեալ ժողովուրդը` մասնակցելու Սուրբ
  Պատարագին։
ATTACH;FMTTYPE=image/jpeg:https://agbw.org/wp-content/uploads/2021/12/Khat
 schverats-900x600-.png
CATEGORIES:Kirchenfest,Surb Patarag / Սուրբ Պատարագ
LOCATION:Evang. Lutherkirche Bad Cannstatt\, Martin-Luther-Straße 54\, Stu
 ttgart\, Germany
GEO:48.804202;9.224521
X-APPLE-STRUCTURED-LOCATION;VALUE=URI;X-ADDRESS=Martin-Luther-Straße 54\, 
 Stuttgart\, Germany;X-APPLE-RADIUS=100;X-TITLE=Evang. Lutherkirche Bad Can
 nstatt:geo:48.804202,9.224521
END:VEVENT
BEGIN:VTIMEZONE
TZID:Europe/Berlin
X-LIC-LOCATION:Europe/Berlin
BEGIN:DAYLIGHT
DTSTART:20230326T030000
TZOFFSETFROM:+0100
TZOFFSETTO:+0200
TZNAME:CEST
END:DAYLIGHT
END:VTIMEZONE
END:VCALENDAR