BEGIN:VCALENDAR
VERSION:2.0
PRODID:-//wp-events-plugin.com//7.2.3.1//EN
TZID:Europe/Berlin
X-WR-TIMEZONE:Europe/Berlin
BEGIN:VEVENT
UID:810@agbw.org
DTSTART;TZID=Europe/Berlin:20260405T100000
DTEND;TZID=Europe/Berlin:20260405T120000
DTSTAMP:20251231T090243Z
URL:https://agbw.org/events/%d5%a6%d5%a1%d5%bf%d5%ab%d5%af-ostern-in-kehl/
SUMMARY:Զատիկ / Ostern in Kehl
DESCRIPTION:Սիրով կը հրաւիրենք մեր ժողովուրդը 
 մասնակցելու զատկական Սուրբ Պատարագին\, լ
 սելու օրուայ պատգամը եւ վերանորոգուելու
  Ս. Յարութեան հրաշափառ խորհուրդով: / Mit Freud
 e laden wir unser Volk ein\, am Ostergottesdienst teilzunehmen\, die Botsc
 haft des Tages zu hören und sich durch das wunderbare Mysterium der Heili
 gen Auferstehung unseres Herrn zu erneuern.
ATTACH;FMTTYPE=image/jpeg:https://agbw.org/wp-content/uploads/2024/12/Surb
 -Patarag-Ostern-Kehl-900-x-600-px-1.jpg
CATEGORIES:Surb Patarag / Սուրբ Պատարագ
LOCATION:St. Maria Kirche in Kehl\, Haydnstraße 1\, Kehl\, 77694\, Deutsch
 land
GEO:48.564021;7.824763
X-APPLE-STRUCTURED-LOCATION;VALUE=URI;X-ADDRESS=Haydnstraße 1\, Kehl\, 776
 94\, Deutschland;X-APPLE-RADIUS=100;X-TITLE=St. Maria Kirche in Kehl:geo:4
 8.564021,7.824763
END:VEVENT
BEGIN:VTIMEZONE
TZID:Europe/Berlin
X-LIC-LOCATION:Europe/Berlin
BEGIN:DAYLIGHT
DTSTART:20260329T030000
TZOFFSETFROM:+0100
TZOFFSETTO:+0200
TZNAME:CEST
END:DAYLIGHT
END:VTIMEZONE
END:VCALENDAR