BEGIN:VCALENDAR
VERSION:2.0
PRODID:-//wp-events-plugin.com//7.2.3.1//EN
TZID:Europe/Berlin
X-WR-TIMEZONE:Europe/Berlin
BEGIN:VEVENT
UID:822@agbw.org
DTSTART;TZID=Europe/Berlin:20260525T110000
DTEND;TZID=Europe/Berlin:20260525T150000
DTSTAMP:20251231T092813Z
URL:https://agbw.org/events/fest-der-weltweiten-kirche-2026/
SUMMARY:Fest der Weltweiten Kirche
DESCRIPTION:Gemeinsam auf dem Weg – Weltweite Gemeinden stellen sich und 
 ihre Herkunftsländer an Ständen mit Speisen\, Musik und landesüblicher 
 Kleidung vor.
ATTACH;FMTTYPE=image/jpeg:https://agbw.org/wp-content/uploads/2025/05/2025
 -Geistliche-84-08-02-05-V01-1.2.png
CATEGORIES:Interkulturell,Ökumene
LOCATION:Evang. Stiftskirche Stuttgart\, Stiftstraße 12\, Stuttgart\, 7017
 3\, Deutschland
GEO:48.776723;9.177953
X-APPLE-STRUCTURED-LOCATION;VALUE=URI;X-ADDRESS=Stiftstraße 12\, Stuttgart
 \, 70173\, Deutschland;X-APPLE-RADIUS=100;X-TITLE=Evang. Stiftskirche Stut
 tgart:geo:48.776723,9.177953
END:VEVENT
BEGIN:VTIMEZONE
TZID:Europe/Berlin
X-LIC-LOCATION:Europe/Berlin
BEGIN:DAYLIGHT
DTSTART:20260329T030000
TZOFFSETFROM:+0100
TZOFFSETTO:+0200
TZNAME:CEST
END:DAYLIGHT
END:VTIMEZONE
END:VCALENDAR