BEGIN:VCALENDAR
VERSION:2.0
PRODID:-//wp-events-plugin.com//7.2.3.1//EN
TZID:Europe/Berlin
X-WR-TIMEZONE:Europe/Berlin
BEGIN:VEVENT
UID:763@agbw.org
DTSTART;TZID=Europe/Berlin:20250420T160000
DTEND;TZID=Europe/Berlin:20250420T210000
DTSTAMP:20250417T081155Z
URL:https://agbw.org/events/gemeinde-osterfeier-2025/
SUMMARY:Osterfeier 2025
DESCRIPTION:Wir laden Sie alle herzlich ein\, am feierlichen Osterottesdien
 st und dem anschließenden Fest teilzunehmen / Սիրով հրավիրու
 մ ենք Ձեզ մասնակցելու Սուրբ Հարության Պա
 տարագին և նրան հաջորդող զատկական տոնախմ
 բության:
ATTACH;FMTTYPE=image/jpeg:https://agbw.org/wp-content/uploads/2025/03/Oste
 rn-2025-Flyer-900-x-600-px.png
CATEGORIES:Gemeindefest,Kirchenfest
LOCATION:Fest- und Turnhalle Bartenbach\, Lerchenberger Str. 20\, Göppinge
 n\, 73035\, Deutschland
GEO:48.723315;9.654298
X-APPLE-STRUCTURED-LOCATION;VALUE=URI;X-ADDRESS=Lerchenberger Str. 20\, Gö
 ppingen\, 73035\, Deutschland;X-APPLE-RADIUS=100;X-TITLE=Fest- und Turnhal
 le Bartenbach:geo:48.723315,9.654298
END:VEVENT
BEGIN:VTIMEZONE
TZID:Europe/Berlin
X-LIC-LOCATION:Europe/Berlin
BEGIN:DAYLIGHT
DTSTART:20250330T030000
TZOFFSETFROM:+0100
TZOFFSETTO:+0200
TZNAME:CEST
END:DAYLIGHT
END:VTIMEZONE
END:VCALENDAR