BEGIN:VCALENDAR
VERSION:2.0
PRODID:-//wp-events-plugin.com//7.2.3.1//EN
TZID:Europe/Berlin
X-WR-TIMEZONE:Europe/Berlin
BEGIN:VEVENT
UID:776@agbw.org
DTSTART;TZID=Europe/Berlin:20251019T153000
DTEND;TZID=Europe/Berlin:20251019T163000
DTSTAMP:20250930T052956Z
URL:https://agbw.org/events/poesie-und-musik/
SUMMARY:Poesie und Musik
DESCRIPTION:[fusion_builder_container type="flex" hundred_percent="no" equa
 l_height_columns="no" menu_anchor="" hide_on_mobile="small-visibility\,med
 ium-visibility\,large-visibility" class="" id="" background_color="" backg
 round_image="" background_position="center center" background_repeat="no-r
 epeat" fade="no" background_parallax="none" parallax_speed="0.3" video_mp4
 ="" video_webm="" video_ogv="" video_url="" video_aspect_ratio="16:9" vide
 o_loop="yes" video_mute="yes" overlay_color="" video_preview_image="" bord
 er_color="" border_style="solid" padding_top="" padding_bottom="" padding_
 left="" padding_right=""][fusion_builder_row][fusion_builder_column type="
 1_1" layout="1_1" background_position="left top" background_color="" borde
 r_color="" border_style="solid" border_position="all" spacing="yes" backgr
 ound_image="" background_repeat="no-repeat" padding_top="" padding_right="
 " padding_bottom="" padding_left="" margin_top="0px" margin_bottom="0px" c
 lass="" id="" animation_type="" animation_speed="0.3" animation_direction=
 "left" hide_on_mobile="small-visibility\,medium-visibility\,large-visibili
 ty" center_content="no" last="true" min_height="" hover_type="none" link="
 " border_sizes_top="" border_sizes_bottom="" border_sizes_left="" border_s
 izes_right="" first="true"][fusion_text]\n\n\nPoesie und Musik\nAuf den Fl
 ügeln des Lichts – ein Nachmittag zwischen Poesie und Musik\nmit Naira 
 Kochar und Lilit Kärcher-Sargsyan.\nZwei starke Stimmen\, zwei eigenstän
 dige Künstlerinnen\, ein besonderer Nachmittag:\nDie Dichterin Naira Koch
 ar nimmt das Publikum mit auf eine poetische Reise in ihrem neuen armenisc
 hsprachigen Lyrikband „Auf den Flügeln des Lichts“. Ihre Gedichte –
  voller Liebe zur Heimat\, zu Gott\, voller philosophischer Tiefe und Emot
 ion – werden zweisprachig (Armenisch und Deutsch) vorgetragen und durch 
 Auszüge aus ihrem deutschsprachigen Band „Jenseits des Schmerzes“ erg
 änzt.\nLilit Kärcher-Sargsyan\, Dichterin\, Liedermacherin und Chorleite
 rin\, entfaltet ihre eigene künstlerische Welt. Mit eigenen Gedichten und
  Liedern\, inspiriert von armenischer Kirchenmusik und moderner Liedtradit
 ion\, schenkt sie dem Abend eine unverwechselbare Klangfarbe.\nFreuen Sie 
 sich auf einen Abend\, an dem sich Poesie und Musik begegnen\, Tradition u
 nd Gegenwart verweben – berührend\, authentisch und inspirierend.\nEint
 ritt frei. Spenden erbeten.\n\n\n\n\n[/fusion_text][/fusion_builder_column
 ][/fusion_builder_row][/fusion_builder_container]
ATTACH;FMTTYPE=image/jpeg:https://agbw.org/wp-content/uploads/2025/09/Poes
 ie-und-Musik.png
CATEGORIES:Begegnung,Kulturtage,Literatur
LOCATION:Rozenbergzentrum\, Rosenbergstr. 92\, Stuttgart\, 70176\, Deutschl
 and
X-APPLE-STRUCTURED-LOCATION;VALUE=URI;X-ADDRESS=Rosenbergstr. 92\, Stuttgar
 t\, 70176\, Deutschland;X-APPLE-RADIUS=100;X-TITLE=Rozenbergzentrum:geo:0,
 0
END:VEVENT
BEGIN:VTIMEZONE
TZID:Europe/Berlin
X-LIC-LOCATION:Europe/Berlin
BEGIN:DAYLIGHT
DTSTART:20250330T030000
TZOFFSETFROM:+0100
TZOFFSETTO:+0200
TZNAME:CEST
END:DAYLIGHT
END:VTIMEZONE
END:VCALENDAR