BEGIN:VCALENDAR
VERSION:2.0
PRODID:-//wp-events-plugin.com//7.2.3.1//EN
TZID:Europe/Berlin
X-WR-TIMEZONE:Europe/Berlin
BEGIN:VEVENT
UID:823@agbw.org
DTSTART;TZID=Europe/Berlin:20260607T123000
DTEND;TZID=Europe/Berlin:20260607T143000
DTSTAMP:20260317T080956Z
URL:https://agbw.org/events/surb-patarag-070626/
SUMMARY:Սուրբ Պատարագ / Surb Patarag
DESCRIPTION:Սիրով կը հրաւիրենք մեր հաւատացեալ 
 ժողովուրդը` մասնակցելու Սուրբ Պատարագին
 ։ / Wir laden unsere Gemeindemitglieder am Surb Patarag (Hl. Liturgie) te
 ilzunehmen
ATTACH;FMTTYPE=image/jpeg:https://agbw.org/wp-content/uploads/2024/12/Pata
 rag-Kehl-21.jpg
CATEGORIES:Surb Patarag / Սուրբ Պատարագ
LOCATION:St. Maria Kirche in Kehl\, Haydnstraße 1\, Kehl\, 77694\, Deutsch
 land
GEO:48.564021;7.824763
X-APPLE-STRUCTURED-LOCATION;VALUE=URI;X-ADDRESS=Haydnstraße 1\, Kehl\, 776
 94\, Deutschland;X-APPLE-RADIUS=100;X-TITLE=St. Maria Kirche in Kehl:geo:4
 8.564021,7.824763
END:VEVENT
BEGIN:VTIMEZONE
TZID:Europe/Berlin
X-LIC-LOCATION:Europe/Berlin
BEGIN:DAYLIGHT
DTSTART:20260329T030000
TZOFFSETFROM:+0100
TZOFFSETTO:+0200
TZNAME:CEST
END:DAYLIGHT
END:VTIMEZONE
END:VCALENDAR