BEGIN:VCALENDAR
VERSION:2.0
PRODID:-//wp-events-plugin.com//7.2.3.1//EN
TZID:Europe/Berlin
X-WR-TIMEZONE:Europe/Berlin
BEGIN:VEVENT
UID:815@agbw.org
DTSTART;TZID=Europe/Berlin:20260419T120000
DTEND;TZID=Europe/Berlin:20260419T140000
DTSTAMP:20251231T091211Z
URL:https://agbw.org/events/surb-patarag-190426/
SUMMARY:Սուրբ Պատարագ / Surb Patarag
DESCRIPTION:Սիրով կը հրաւիրենք մեր հաւատացեալ 
 ժողովուրդը` մասնակցելու Սուրբ Պատարագին
 ։ / Wir laden unsere Gemeindemitglieder am Surb Patarag (Hl. Liturgie) te
 ilzunehmen.
ATTACH;FMTTYPE=image/jpeg:https://agbw.org/wp-content/uploads/2024/12/Pata
 rag-Stuttgart-23.jpg
CATEGORIES:Gottesdienst,Surb Patarag / Սուրբ Պատարագ
LOCATION:Evang. Lutherkirche Bad Cannstatt\, Martin-Luther-Straße 54\, Stu
 ttgart\, Deutschland
GEO:48.804202;9.224521
X-APPLE-STRUCTURED-LOCATION;VALUE=URI;X-ADDRESS=Martin-Luther-Straße 54\, 
 Stuttgart\, Deutschland;X-APPLE-RADIUS=100;X-TITLE=Evang. Lutherkirche Bad
  Cannstatt:geo:48.804202,9.224521
END:VEVENT
BEGIN:VTIMEZONE
TZID:Europe/Berlin
X-LIC-LOCATION:Europe/Berlin
BEGIN:DAYLIGHT
DTSTART:20260329T030000
TZOFFSETFROM:+0100
TZOFFSETTO:+0200
TZNAME:CEST
END:DAYLIGHT
END:VTIMEZONE
END:VCALENDAR