BEGIN:VCALENDAR
VERSION:2.0
PRODID:-//wp-events-plugin.com//7.2.3.1//EN
TZID:Europe/Berlin
X-WR-TIMEZONE:Europe/Berlin
BEGIN:VEVENT
UID:734@agbw.org
DTSTART;TZID=Europe/Berlin:20250622T120000
DTEND;TZID=Europe/Berlin:20250622T140000
DTSTAMP:20250208T090646Z
URL:https://agbw.org/events/surb-patarag-22-06-2025/
SUMMARY:Սուրբ Պատարագ / Surb Patarag
DESCRIPTION:Սիրով կը հրաւիրենք մեր հաւատացեալ 
 ժողովուրդը` մասնակցելու Սուրբ Պատարագին
 ։ / Wir laden unsere Gemeindemitglieder am Surb Patarag (Hl. Liturgie) te
 ilzunehmen
ATTACH;FMTTYPE=image/jpeg:https://agbw.org/wp-content/uploads/2024/12/Wein
 garten-900-x-600-px-2-2.jpg
CATEGORIES:Surb Patarag / Սուրբ Պատարագ
LOCATION:Evang. Stadtkirche Weingarten\, Abt-Hyller-Straße 17\, Weingarten
 \, 88250\, Deutschland
GEO:47.809331;9.639117
X-APPLE-STRUCTURED-LOCATION;VALUE=URI;X-ADDRESS=Abt-Hyller-Straße 17\, Wei
 ngarten\, 88250\, Deutschland;X-APPLE-RADIUS=100;X-TITLE=Evang. Stadtkirch
 e Weingarten:geo:47.809331,9.639117
END:VEVENT
BEGIN:VTIMEZONE
TZID:Europe/Berlin
X-LIC-LOCATION:Europe/Berlin
BEGIN:DAYLIGHT
DTSTART:20250330T030000
TZOFFSETFROM:+0100
TZOFFSETTO:+0200
TZNAME:CEST
END:DAYLIGHT
END:VTIMEZONE
END:VCALENDAR